BEGIN:VCALENDAR
VERSION:2.0
PRODID:-//Faith Worship Center Church Brighton Michigan - ECPv6.3.5//NONSGML v1.0//EN
CALSCALE:GREGORIAN
METHOD:PUBLISH
X-WR-CALNAME:Faith Worship Center Church Brighton Michigan
X-ORIGINAL-URL:https://faithworshipcenter.org
X-WR-CALDESC:Events for Faith Worship Center Church Brighton Michigan
REFRESH-INTERVAL;VALUE=DURATION:PT1H
X-Robots-Tag:noindex
X-PUBLISHED-TTL:PT1H
BEGIN:VTIMEZONE
TZID:America/Detroit
BEGIN:DAYLIGHT
TZOFFSETFROM:-0500
TZOFFSETTO:-0400
TZNAME:EDT
DTSTART:20210314T070000
END:DAYLIGHT
BEGIN:STANDARD
TZOFFSETFROM:-0400
TZOFFSETTO:-0500
TZNAME:EST
DTSTART:20211107T060000
END:STANDARD
END:VTIMEZONE
BEGIN:VEVENT
DTSTART;TZID=America/Detroit:20211021T190000
DTEND;TZID=America/Detroit:20211022T190000
DTSTAMP:20260422T230248
CREATED:20210925T190904Z
LAST-MODIFIED:20210925T190904Z
UID:2156-1634842800-1634929200@faithworshipcenter.org
SUMMARY:Joseph Larson Coming to Faith Worship Center in Brighton Michigan October 21st & 22nd
DESCRIPTION:We are excited to announce that on October 21st & 22nd\, Joseph Larson from the Sonlife Broadcasting Network will be coming to Faith Worship Center in Brighton\, Michigan for two great services. The services will be on a Thursday and Friday night at 7pm. The doors open at 6pm. If you’re anywhere within driving distance\, we encourage you to come out and be a part of these services! They can also be viewed at Facebook.com/fwcbrighton. If you have any questions please contact the number below. \nGod bless! \nFaith Worship Center\n2130 S Hacker Rd\nBrighton\, MI 48114\n(810)227-4055
URL:https://faithworshipcenter.org/event/joseph-larson-coming-to-faith-worship-center-in-brighton-michigan-october-21st-22nd/
LOCATION:Faith Worship Center\, 2130 S Hacker Rd\, Brighton\, MI\, 48114\, United States
CATEGORIES:Speakers
ATTACH;FMTTYPE=image/jpeg:https://faithworshipcenter.org/wp-content/uploads/2021/09/Joseph-Larson-at-Faith-Worship-Center-Brighton-Michigan.jpg
END:VEVENT
END:VCALENDAR