BEGIN:VCALENDAR
VERSION:2.0
PRODID:-//Faith Worship Center Church Brighton Michigan - ECPv6.3.5//NONSGML v1.0//EN
CALSCALE:GREGORIAN
METHOD:PUBLISH
X-WR-CALNAME:Faith Worship Center Church Brighton Michigan
X-ORIGINAL-URL:https://faithworshipcenter.org
X-WR-CALDESC:Events for Faith Worship Center Church Brighton Michigan
REFRESH-INTERVAL;VALUE=DURATION:PT1H
X-Robots-Tag:noindex
X-PUBLISHED-TTL:PT1H
BEGIN:VTIMEZONE
TZID:America/Detroit
BEGIN:DAYLIGHT
TZOFFSETFROM:-0500
TZOFFSETTO:-0400
TZNAME:EDT
DTSTART:20230312T070000
END:DAYLIGHT
BEGIN:STANDARD
TZOFFSETFROM:-0400
TZOFFSETTO:-0500
TZNAME:EST
DTSTART:20231105T060000
END:STANDARD
END:VTIMEZONE
BEGIN:VEVENT
DTSTART;TZID=America/Detroit:20231102T190000
DTEND;TZID=America/Detroit:20231103T190000
DTSTAMP:20260421T011958
CREATED:20231008T163041Z
LAST-MODIFIED:20231008T164018Z
UID:2886-1698951600-1699038000@faithworshipcenter.org
SUMMARY:Joseph Larson from Family Worship Center (SonLife Broadcasting Network) Brighton\, MI on Nov. 2 & 3
DESCRIPTION:Only 1 month away! Joseph Larson from Family Worship Center (SonLife Broadcasting Network) will be returning to Brighton\, MI on Nov. 2 & 3 for anointed preaching and to lead God’s people into worship Thursday & Friday @ 7pm! Doors open 1 hour before so make your plans to join us and come expecting God to move in our midst! \nFaith Worship Center \n2130 S Hacker Rd\, Brighton\, MI \n**for questions (810) 227-4055 \n  \nHotels for those traveling from out of town: \nHoliday Inn Express \n7850 Nemco Way\, Brighton\, MI \n(810) 225-0600 \nWingate by Wyndham \n8285 Movie Dr\, Brighton\, MI \n(810) 225-4300
URL:https://faithworshipcenter.org/event/joseph-larson-from-family-worship-center-sonlife-broadcasting-network-brighton-mi-on-nov-2-3/
LOCATION:Faith Worship Center\, 2130 S Hacker Rd\, Brighton\, MI\, 48114\, United States
CATEGORIES:Speakers
ATTACH;FMTTYPE=image/jpeg:https://faithworshipcenter.org/wp-content/uploads/2023/10/FWC-Joseph-Larson-Nov-2nd-3rd.jpg
END:VEVENT
END:VCALENDAR