BEGIN:VCALENDAR
VERSION:2.0
PRODID:-//Faith Worship Center Church Brighton Michigan - ECPv6.3.5//NONSGML v1.0//EN
CALSCALE:GREGORIAN
METHOD:PUBLISH
X-ORIGINAL-URL:https://faithworshipcenter.org
X-WR-CALDESC:Events for Faith Worship Center Church Brighton Michigan
REFRESH-INTERVAL;VALUE=DURATION:PT1H
X-Robots-Tag:noindex
X-PUBLISHED-TTL:PT1H
BEGIN:VTIMEZONE
TZID:America/Detroit
BEGIN:DAYLIGHT
TZOFFSETFROM:-0500
TZOFFSETTO:-0400
TZNAME:EDT
DTSTART:20210314T070000
END:DAYLIGHT
BEGIN:STANDARD
TZOFFSETFROM:-0400
TZOFFSETTO:-0500
TZNAME:EST
DTSTART:20211107T060000
END:STANDARD
END:VTIMEZONE
BEGIN:VEVENT
DTSTART;TZID=America/Detroit:20210602T190000
DTEND;TZID=America/Detroit:20210603T190000
DTSTAMP:20260420T003058
CREATED:20210429T191311Z
LAST-MODIFIED:20210516T174326Z
UID:2056-1622660400-1622746800@faithworshipcenter.org
SUMMARY:Faith Worship Center Welcomes Pastor David Borg June 2nd and 3rd at 7pm
DESCRIPTION:Faith Worship Center of Brighton\, Michigan welcomes Pastor David Borg June 2nd and 3rd 2021 @ 7pm.\n\nJUNE 2nd & 3rd 2021 @ 7pm\n\nAbout Pastor David Borg:\nDavid Borg came to Jimmy Swaggart Ministries in 1989 and has been actively involved in various aspects of ministry inside and outside of Jimmy Swaggart Ministries. He has served as pastor and associate pastor of several churches over the years\, and served as prison ministry pastor for Family Worship Center from 1997-2000. He is currently teaching at Jimmy Swaggart Bible College\, and is a member of the pastoral staff at Family Worship Center\, sharing the pulpit with other JSM ministers. \nDavid Borg’s Bio from JSM
URL:https://faithworshipcenter.org/event/faith-worship-center-welcomes-pastor-david-borg-june-2n-3rd-at-7pm/
LOCATION:Faith Worship Center\, 2130 S Hacker Rd\, Brighton\, MI\, 48114\, United States
CATEGORIES:Speakers
ATTACH;FMTTYPE=image/jpeg:https://faithworshipcenter.org/wp-content/uploads/2021/04/David-Borg-June-2nd-3rd-7pm.jpg
END:VEVENT
END:VCALENDAR